BEGIN:VCALENDAR
VERSION:2.0
PRODID:-//Norton Parish Council//Meeting Calendar//EN
CALSCALE:GREGORIAN
METHOD:PUBLISH
BEGIN:VEVENT
UID:70462-20240414@norton-pc.gov.uk
DTSTAMP:20260421T101200Z
DTSTART;VALUE=DATE:20240414
DTEND;VALUE=DATE:20240415
SUMMARY:Annual Parish Meeting &#8211\\; 14th April 2024
DESCRIPTION:Annual Parish Meeting\nView details: https://norton-pc.gov.uk/meetings/annual-parish-meeting-14th-april-2024/
URL:https://norton-pc.gov.uk/meetings/annual-parish-meeting-14th-april-2024/
END:VEVENT
END:VCALENDAR
