BEGIN:VCALENDAR
VERSION:2.0
PRODID:-//Norton Parish Council//Meeting Calendar//EN
CALSCALE:GREGORIAN
METHOD:PUBLISH
BEGIN:VEVENT
UID:70531-20230530@norton-pc.gov.uk
DTSTAMP:20260421T120449Z
DTSTART;VALUE=DATE:20230530
DTEND;VALUE=DATE:20230531
SUMMARY:Annual Council Meeting &#8211\\; 30th May 2023
DESCRIPTION:Annual Parish Meeting\nView details: https://norton-pc.gov.uk/meetings/annual-council-meeting-30th-may-2023/
URL:https://norton-pc.gov.uk/meetings/annual-council-meeting-30th-may-2023/
END:VEVENT
END:VCALENDAR
