BEGIN:VCALENDAR
VERSION:2.0
PRODID:-//Norton Parish Council//Meeting Calendar//EN
CALSCALE:GREGORIAN
METHOD:PUBLISH
BEGIN:VEVENT
UID:70840-20220517@norton-pc.gov.uk
DTSTAMP:20260421T134434Z
DTSTART;VALUE=DATE:20220517
DTEND;VALUE=DATE:20220518
SUMMARY:Annual Parish Meeting &#8211\\; 17 May 2022
DESCRIPTION:Annual Parish Meeting\nView details: https://norton-pc.gov.uk/meetings/annual-parish-meeting-17-may-2022/
URL:https://norton-pc.gov.uk/meetings/annual-parish-meeting-17-may-2022/
END:VEVENT
END:VCALENDAR
